BEGIN:VCALENDAR
VERSION:2.0
PRODID:Spatie calendar-links
BEGIN:VEVENT
UID:56f53f57-4e60-4b2d-b119-65d1bb415fac
SUMMARY:All Ball: PS 34\, 5 v 5 Full\, Casual
DTSTAMP:20260426T180000Z
DTSTART:20260426T180000Z
DTEND:20260426T194500Z
LOCATION:730 East 12th Street \nNew York \, NY\, 10009
END:VEVENT
END:VCALENDAR