BEGIN:VCALENDAR
VERSION:2.0
PRODID:Spatie calendar-links
BEGIN:VEVENT
UID:d61b3d12-2e2c-4e70-afb2-2f088f12a1b8
SUMMARY:All Ball: PS 34\, 5 v 5 Full\, Casual
DTSTAMP:20260428T001500Z
DTSTART:20260428T001500Z
DTEND:20260428T014500Z
LOCATION:730 East 12th Street \nNew York \, NY\, 10009
END:VEVENT
END:VCALENDAR