BEGIN:VCALENDAR
VERSION:2.0
PRODID:Spatie calendar-links
BEGIN:VEVENT
UID:15c856ab-d9a4-41d2-a55a-670d90f9817b
SUMMARY:All Ball: PS 34\, 5 v 5 Full
DTSTAMP:20260429T001500Z
DTSTART:20260429T001500Z
DTEND:20260429T014500Z
LOCATION:730 East 12th Street \nNew York \, NY\, 10009
END:VEVENT
END:VCALENDAR