BEGIN:VCALENDAR
VERSION:2.0
PRODID:Spatie calendar-links
BEGIN:VEVENT
UID:f867b0a1-9616-4609-9112-21f435e14373
SUMMARY:All Ball: PS 34\, 5 v 5 Full
DTSTAMP:20260430T001500Z
DTSTART:20260430T001500Z
DTEND:20260430T014500Z
LOCATION:730 East 12th Street \nNew York \, NY\, 10009
END:VEVENT
END:VCALENDAR