BEGIN:VCALENDAR
VERSION:2.0
PRODID:Spatie calendar-links
BEGIN:VEVENT
UID:63a33cdd-9c2a-4d38-b87a-3ae99b053430
SUMMARY:All Ball: PS 34\, 5 v 5 Full
DTSTAMP:20260501T001500Z
DTSTART:20260501T001500Z
DTEND:20260501T014500Z
LOCATION:730 East 12th Street \nNew York \, NY\, 10009
END:VEVENT
END:VCALENDAR