BEGIN:VCALENDAR
VERSION:2.0
PRODID:Spatie calendar-links
BEGIN:VEVENT
UID:c3789be9-9806-42c8-8130-3cdcf57cafea
SUMMARY:All Ball: Trevor Day\, 5 v 5 Full
DTSTAMP:20260430T011500Z
DTSTART:20260430T011500Z
DTEND:20260430T030000Z
LOCATION:312 East 95th Street \nNew York\, NY\, 10128
END:VEVENT
END:VCALENDAR