BEGIN:VCALENDAR
VERSION:2.0
PRODID:Spatie calendar-links
BEGIN:VEVENT
UID:1bfad23f-0fbe-45f4-9298-d911c8347ac9
SUMMARY:All Ball: Chelsea Prep\, 5 v 5 Full\, Casual
DTSTAMP:20260424T231500Z
DTSTART:20260424T231500Z
DTEND:20260425T010000Z
LOCATION:281 Ninth Avenue \nNew York\, NY\, 10001
END:VEVENT
END:VCALENDAR