BEGIN:VCALENDAR
VERSION:2.0
PRODID:Spatie calendar-links
BEGIN:VEVENT
UID:04c9d650-2abe-4200-83c4-faf835d004ce
SUMMARY:All Ball: Chelsea Prep\, 5 v 5 Full\, Rookie
DTSTAMP:20260425T163000Z
DTSTART:20260425T163000Z
DTEND:20260425T181500Z
LOCATION:281 Ninth Avenue \nNew York\, NY\, 10001
END:VEVENT
END:VCALENDAR