BEGIN:VCALENDAR
VERSION:2.0
PRODID:Spatie calendar-links
BEGIN:VEVENT
UID:22f63726-93c9-4ce6-ae88-a4ffb225b5c9
SUMMARY:All Ball: Chelsea Prep\, 5 v 5 Full
DTSTAMP:20260425T181500Z
DTSTART:20260425T181500Z
DTEND:20260425T194500Z
LOCATION:281 Ninth Avenue \nNew York\, NY\, 10001
END:VEVENT
END:VCALENDAR