BEGIN:VCALENDAR
VERSION:2.0
PRODID:Spatie calendar-links
BEGIN:VEVENT
UID:00e2ede3-49b1-4f4f-a8b9-e0873f93209a
SUMMARY:All Ball: Chelsea Prep\, 5 v 5 Full
DTSTAMP:20260426T144500Z
DTSTART:20260426T144500Z
DTEND:20260426T161500Z
LOCATION:281 Ninth Avenue \nNew York\, NY\, 10001
END:VEVENT
END:VCALENDAR