BEGIN:VCALENDAR
VERSION:2.0
PRODID:Spatie calendar-links
BEGIN:VEVENT
UID:9080ff11-db24-4cf9-a068-912f522c7d75
SUMMARY:All Ball: Chelsea Prep\, 5 v 5 Full
DTSTAMP:20260426T161500Z
DTSTART:20260426T161500Z
DTEND:20260426T180000Z
LOCATION:281 Ninth Avenue \nNew York\, NY\, 10001
END:VEVENT
END:VCALENDAR