BEGIN:VCALENDAR
VERSION:2.0
PRODID:Spatie calendar-links
BEGIN:VEVENT
UID:82e8b12f-45b1-48db-bd11-476708b0b4d7
SUMMARY:All Ball: Chelsea Prep\, 5 v 5 Full
DTSTAMP:20260426T180000Z
DTSTART:20260426T180000Z
DTEND:20260426T194500Z
LOCATION:281 Ninth Avenue \nNew York\, NY\, 10001
END:VEVENT
END:VCALENDAR