BEGIN:VCALENDAR
VERSION:2.0
PRODID:Spatie calendar-links
BEGIN:VEVENT
UID:ed93f974-a85b-46bf-b16c-005320c16fd2
SUMMARY:All Ball: The Post: Gowanus\, 5 v 5 Full
DTSTAMP:20260525T230000Z
DTSTART:20260525T230000Z
DTEND:20260526T010000Z
LOCATION:483 Baltic Street \nBrooklyn\, NY\, 11217
END:VEVENT
END:VCALENDAR