BEGIN:VCALENDAR
VERSION:2.0
PRODID:Spatie calendar-links
BEGIN:VEVENT
UID:ad5b5397-e47c-4e28-bed8-14834c709e9e
SUMMARY:All Ball: Hudson Guild\, 5 v 5 Full\, Select
DTSTAMP:20260429T010000Z
DTSTART:20260429T010000Z
DTEND:20260429T024500Z
LOCATION:441 W. 26th Street \nNew York\, NY\, 10001
END:VEVENT
END:VCALENDAR