BEGIN:VCALENDAR
VERSION:2.0
PRODID:Spatie calendar-links
BEGIN:VEVENT
UID:52f3ddeb-cf1e-4e9c-a8f7-aa7cd78ef5f5
SUMMARY:All Ball: PS 145\, 5 v 5 Full\, Select
DTSTAMP:20260426T130000Z
DTSTART:20260426T130000Z
DTEND:20260426T143000Z
LOCATION:150 W 105th St \nNew York\, NY\, 10025
END:VEVENT
END:VCALENDAR