BEGIN:VCALENDAR
VERSION:2.0
PRODID:Spatie calendar-links
BEGIN:VEVENT
UID:5c90b297-a828-4499-abda-15e77ce37082
SUMMARY:All Ball: Frank Sinatra High\, 5 v 5 Full
DTSTAMP:20260421T231500Z
DTSTART:20260421T231500Z
DTEND:20260422T004500Z
LOCATION:35-12 35th Avenue \nAstoria \, NY\, 11106
END:VEVENT
END:VCALENDAR