BEGIN:VCALENDAR
VERSION:2.0
PRODID:Spatie calendar-links
BEGIN:VEVENT
UID:f664de7b-acef-4a3d-9cd5-18c95a92cec2
SUMMARY:All Ball: Frank Sinatra High\, 5 v 5 Full
DTSTAMP:20260428T233000Z
DTSTART:20260428T233000Z
DTEND:20260429T010000Z
LOCATION:35-12 35th Avenue \nAstoria \, NY\, 11106
END:VEVENT
END:VCALENDAR