BEGIN:VCALENDAR
VERSION:2.0
PRODID:Spatie calendar-links
BEGIN:VEVENT
UID:683781ea-b22e-4890-8602-8a1771d6bdaa
SUMMARY:All Ball: Frank Sinatra High\, 5 v 5 Full
DTSTAMP:20260429T010000Z
DTSTART:20260429T010000Z
DTEND:20260429T023000Z
LOCATION:35-12 35th Avenue \nAstoria \, NY\, 11106
END:VEVENT
END:VCALENDAR