BEGIN:VCALENDAR
VERSION:2.0
PRODID:Spatie calendar-links
BEGIN:VEVENT
UID:21e51428-c5cd-476e-9923-0e20a889c137
SUMMARY:All Ball: Frank Sinatra High\, 5 v 5 Full
DTSTAMP:20260505T231500Z
DTSTART:20260505T231500Z
DTEND:20260506T004500Z
LOCATION:35-12 35th Avenue \nAstoria \, NY\, 11106
END:VEVENT
END:VCALENDAR