BEGIN:VCALENDAR
VERSION:2.0
PRODID:Spatie calendar-links
BEGIN:VEVENT
UID:b0d68f3c-eb60-40cf-8bce-51460a6386db
SUMMARY:All Ball: Frank Sinatra High\, 5 v 5 Full
DTSTAMP:20260512T231500Z
DTSTART:20260512T231500Z
DTEND:20260513T004500Z
LOCATION:35-12 35th Avenue \nAstoria \, NY\, 11106
END:VEVENT
END:VCALENDAR