BEGIN:VCALENDAR
VERSION:2.0
PRODID:Spatie calendar-links
BEGIN:VEVENT
UID:a5621419-352b-46b4-9e19-cac39eeffff1
SUMMARY:All Ball: Frank Sinatra High\, 5 v 5 Full
DTSTAMP:20260519T231500Z
DTSTART:20260519T231500Z
DTEND:20260520T004500Z
LOCATION:35-12 35th Avenue \nAstoria \, NY\, 11106
END:VEVENT
END:VCALENDAR