BEGIN:VCALENDAR
VERSION:2.0
PRODID:Spatie calendar-links
BEGIN:VEVENT
UID:1004da65-253f-4c24-b857-1348bc7889da
SUMMARY:All Ball: Frank Sinatra High\, 5 v 5 Full
DTSTAMP:20260526T231500Z
DTSTART:20260526T231500Z
DTEND:20260527T004500Z
LOCATION:35-12 35th Avenue \nAstoria \, NY\, 11106
END:VEVENT
END:VCALENDAR