BEGIN:VCALENDAR
VERSION:2.0
PRODID:Spatie calendar-links
BEGIN:VEVENT
UID:40aae518-b5bb-4875-9434-d21b8345ed7f
SUMMARY:All Ball: Frank Sinatra High\, 5 v 5 Full
DTSTAMP:20260506T004500Z
DTSTART:20260506T004500Z
DTEND:20260506T021500Z
LOCATION:35-12 35th Avenue \nAstoria \, NY\, 11106
END:VEVENT
END:VCALENDAR