BEGIN:VCALENDAR
VERSION:2.0
PRODID:Spatie calendar-links
BEGIN:VEVENT
UID:590f9da1-1931-4336-933f-8a3af0664463
SUMMARY:All Ball: Frank Sinatra High\, 5 v 5 Full
DTSTAMP:20260513T004500Z
DTSTART:20260513T004500Z
DTEND:20260513T021500Z
LOCATION:35-12 35th Avenue \nAstoria \, NY\, 11106
END:VEVENT
END:VCALENDAR