BEGIN:VCALENDAR
VERSION:2.0
PRODID:Spatie calendar-links
BEGIN:VEVENT
UID:7e22a4c2-80aa-4e3e-8ae2-e72d991f11b0
SUMMARY:All Ball: Frank Sinatra High\, 5 v 5 Full
DTSTAMP:20260520T004500Z
DTSTART:20260520T004500Z
DTEND:20260520T021500Z
LOCATION:35-12 35th Avenue \nAstoria \, NY\, 11106
END:VEVENT
END:VCALENDAR