BEGIN:VCALENDAR
VERSION:2.0
PRODID:Spatie calendar-links
BEGIN:VEVENT
UID:8cb327dd-0509-4931-b51c-86f63e71c2b6
SUMMARY:All Ball: Frank Sinatra High\, 5 v 5 Full
DTSTAMP:20260527T004500Z
DTSTART:20260527T004500Z
DTEND:20260527T021500Z
LOCATION:35-12 35th Avenue \nAstoria \, NY\, 11106
END:VEVENT
END:VCALENDAR