BEGIN:VCALENDAR
VERSION:2.0
PRODID:Spatie calendar-links
BEGIN:VEVENT
UID:e04c01ae-7709-441c-a149-2483fd5a71a4
SUMMARY:All Ball: Patrick Henry Prep\, 5 v 5 Full
DTSTAMP:20260421T223000Z
DTSTART:20260421T223000Z
DTEND:20260422T001500Z
LOCATION:19 East 103rd Street \nNew York\, NY\, 10029
END:VEVENT
END:VCALENDAR