BEGIN:VCALENDAR
VERSION:2.0
PRODID:Spatie calendar-links
BEGIN:VEVENT
UID:55a5453d-9e59-46fe-a2ac-291ac8fe911b
SUMMARY:All Ball: Patrick Henry Prep\, 5 v 5 Full
DTSTAMP:20260423T223000Z
DTSTART:20260423T223000Z
DTEND:20260424T001500Z
LOCATION:19 East 103rd Street \nNew York\, NY\, 10029
END:VEVENT
END:VCALENDAR