BEGIN:VCALENDAR
VERSION:2.0
PRODID:Spatie calendar-links
BEGIN:VEVENT
UID:0b876039-0982-4e26-bd2f-e202b1358f72
SUMMARY:All Ball: Patrick Henry Prep\, 5 v 5 Full
DTSTAMP:20260428T223000Z
DTSTART:20260428T223000Z
DTEND:20260429T001500Z
LOCATION:19 East 103rd Street \nNew York\, NY\, 10029
END:VEVENT
END:VCALENDAR