BEGIN:VCALENDAR
VERSION:2.0
PRODID:Spatie calendar-links
BEGIN:VEVENT
UID:8b092444-027d-44e0-a474-01c4bac521a1
SUMMARY:All Ball: Patrick Henry Prep\, 5 v 5 Full
DTSTAMP:20260426T144500Z
DTSTART:20260426T144500Z
DTEND:20260426T161500Z
LOCATION:19 East 103rd Street \nNew York\, NY\, 10029
END:VEVENT
END:VCALENDAR