BEGIN:VCALENDAR
VERSION:2.0
PRODID:Spatie calendar-links
BEGIN:VEVENT
UID:f5be0e0e-fc84-476a-821f-b75954f22357
SUMMARY:All Ball: Patrick Henry Prep\, 5 v 5 Full
DTSTAMP:20260426T161500Z
DTSTART:20260426T161500Z
DTEND:20260426T174500Z
LOCATION:19 East 103rd Street \nNew York\, NY\, 10029
END:VEVENT
END:VCALENDAR