BEGIN:VCALENDAR
VERSION:2.0
PRODID:Spatie calendar-links
BEGIN:VEVENT
UID:6acb7b7f-90d7-490f-b3cc-22e63696f7b5
SUMMARY:All Ball: PS 32\, 5 v 5 Full
DTSTAMP:20260420T223000Z
DTSTART:20260420T223000Z
DTEND:20260421T001500Z
LOCATION:420 Union Street \nBrooklyn \, NY\, 11231
END:VEVENT
END:VCALENDAR