BEGIN:VCALENDAR
VERSION:2.0
PRODID:Spatie calendar-links
BEGIN:VEVENT
UID:4a075af7-03fd-408e-88fb-43e4bd6940d7
SUMMARY:All Ball: PS 32\, 5 v 5 Full
DTSTAMP:20260427T223000Z
DTSTART:20260427T223000Z
DTEND:20260428T001500Z
LOCATION:420 Union Street \nBrooklyn \, NY\, 11231
END:VEVENT
END:VCALENDAR