BEGIN:VCALENDAR
VERSION:2.0
PRODID:Spatie calendar-links
BEGIN:VEVENT
UID:468503bc-5d42-4e82-89fe-d80c4bffe8f7
SUMMARY:All Ball: PS 32\, 5 v 5 Full
DTSTAMP:20260429T223000Z
DTSTART:20260429T223000Z
DTEND:20260430T001500Z
LOCATION:420 Union Street \nBrooklyn \, NY\, 11231
END:VEVENT
END:VCALENDAR